BEGIN:VCALENDAR
VERSION:2.0
PRODID:icalendar-ruby
CALSCALE:GREGORIAN
METHOD:PUBLISH
BEGIN:VEVENT
DTSTAMP:20260424T071745Z
UID:50-2240583@kgtchurch.org
DTSTART:20261020T230000Z
DTEND:20261021T000000Z
CLASS:PUBLIC
CREATED:20260423T212202
DESCRIPTION:Prayer Meeting
LAST-MODIFIED:20260423T212202
LOCATION:Fellowship Hall KGT
SUMMARY:Prayer Meeting
URL;VALUE=URI:https://www.kgtchurch.org/events/prayer-meeting--50/2026-10-2
 0
ATTACH;FILENAME=Prayer-Meeting.jpg;FMTTYPE=image/jpeg:https://dq5pwpg1q8ru0
 .cloudfront.net/2025/09/03/16/42/45/1d6c3bd3-ffca-4f86-b055-e6baec03ee0f/P
 rayer-Meeting.jpg
END:VEVENT
END:VCALENDAR
