BEGIN:VCALENDAR
VERSION:2.0
PRODID:icalendar-ruby
CALSCALE:GREGORIAN
METHOD:PUBLISH
BEGIN:VEVENT
DTSTAMP:20260425T001915Z
UID:39-2246973@kgtchurch.org
DTSTART:20261105T150000Z
DTEND:20261105T170000Z
CLASS:PUBLIC
CREATED:20260424T180835
DESCRIPTION:
LAST-MODIFIED:20260424T180835
LOCATION:KGT
SUMMARY:Ladies Day Break
URL;VALUE=URI:https://www.kgtchurch.org/events/ladies-day-break/2026-11-05
ATTACH;FILENAME=Slides-%284%29.png;FMTTYPE=image/png:https://dq5pwpg1q8ru0.
 cloudfront.net/2025/11/20/15/49/19/071cb9fa-f1e6-4d58-8419-6f0116ad21f6/Sl
 ides-%25284%2529.png
END:VEVENT
END:VCALENDAR
