BEGIN:VCALENDAR
VERSION:2.0
PRODID:icalendar-ruby
CALSCALE:GREGORIAN
METHOD:PUBLISH
BEGIN:VEVENT
DTSTAMP:20260420T133645Z
UID:39-2211671@kgtchurch.org
DTSTART:20260820T140000Z
DTEND:20260820T160000Z
CLASS:PUBLIC
CREATED:20260420T091855
DESCRIPTION:
LAST-MODIFIED:20260420T091855
LOCATION:KGT
SUMMARY:Ladies Day Break
URL;VALUE=URI:https://www.kgtchurch.org/events/ladies-day-break/2026-08-20
ATTACH;FILENAME=Slides-%284%29.png;FMTTYPE=image/png:https://dq5pwpg1q8ru0.
 cloudfront.net/2025/11/20/15/49/19/071cb9fa-f1e6-4d58-8419-6f0116ad21f6/Sl
 ides-%25284%2529.png
END:VEVENT
END:VCALENDAR
