BEGIN:VCALENDAR
VERSION:2.0
PRODID:icalendar-ruby
CALSCALE:GREGORIAN
METHOD:PUBLISH
BEGIN:VEVENT
DTSTAMP:20260426T042411Z
UID:54-2256394@kgtchurch.org
DTSTART:20260925T230000Z
DTEND:20260926T000000Z
CLASS:PUBLIC
CREATED:20260425T201320
DESCRIPTION:Jr High
LAST-MODIFIED:20260425T201320
LOCATION:Fireside Room\, KGT
SUMMARY:Jr High
URL;VALUE=URI:https://www.kgtchurch.org/events/jr-high--54/2026-09-25
END:VEVENT
END:VCALENDAR
