BEGIN:VCALENDAR
VERSION:2.0
PRODID:icalendar-ruby
CALSCALE:GREGORIAN
METHOD:PUBLISH
BEGIN:VEVENT
DTSTAMP:20260423T132230Z
UID:78-2234154@kgtchurch.org
DTSTART:20261022T223000Z
DTEND:20261022T233000Z
CLASS:PUBLIC
CREATED:20260423T064908
DESCRIPTION:Alpha
LAST-MODIFIED:20260423T064908
LOCATION:Fireside room
SUMMARY:Alpha
URL;VALUE=URI:https://www.kgtchurch.org/events/alpha/2026-10-22
END:VEVENT
END:VCALENDAR
