BEGIN:VCALENDAR
VERSION:2.0
PRODID:icalendar-ruby
CALSCALE:GREGORIAN
METHOD:PUBLISH
BEGIN:VEVENT
DTSTAMP:20260423T090137Z
UID:78-2232845@kgtchurch.org
DTSTART:20261008T223000Z
DTEND:20261008T233000Z
CLASS:PUBLIC
CREATED:20260422T212002
DESCRIPTION:Alpha
LAST-MODIFIED:20260422T212002
LOCATION:Fireside room
SUMMARY:Alpha
URL;VALUE=URI:https://www.kgtchurch.org/events/alpha/2026-10-08
END:VEVENT
END:VCALENDAR
