BEGIN:VCALENDAR
VERSION:2.0
PRODID:icalendar-ruby
CALSCALE:GREGORIAN
METHOD:PUBLISH
BEGIN:VEVENT
DTSTAMP:20260421T000727Z
UID:78-2217183@kgtchurch.org
DTSTART:20261001T223000Z
DTEND:20261001T233000Z
CLASS:PUBLIC
CREATED:20260420T193809
DESCRIPTION:Alpha
LAST-MODIFIED:20260420T193809
LOCATION:Fireside room
SUMMARY:Alpha
URL;VALUE=URI:https://www.kgtchurch.org/events/alpha/2026-10-01
END:VEVENT
END:VCALENDAR
