BEGIN:VCALENDAR
VERSION:2.0
PRODID:icalendar-ruby
CALSCALE:GREGORIAN
METHOD:PUBLISH
BEGIN:VEVENT
DTSTAMP:20260420T220822Z
UID:78-2215878@kgtchurch.org
DTSTART:20260924T223000Z
DTEND:20260924T233000Z
CLASS:PUBLIC
CREATED:20260420T170306
DESCRIPTION:Alpha
LAST-MODIFIED:20260420T170306
LOCATION:Fireside room
SUMMARY:Alpha
URL;VALUE=URI:https://www.kgtchurch.org/events/alpha/2026-09-24
END:VEVENT
END:VCALENDAR
