BEGIN:VCALENDAR
VERSION:2.0
PRODID:icalendar-ruby
CALSCALE:GREGORIAN
METHOD:PUBLISH
BEGIN:VEVENT
DTSTAMP:20260420T201014Z
UID:78-2214573@kgtchurch.org
DTSTART:20260917T223000Z
DTEND:20260917T233000Z
CLASS:PUBLIC
CREATED:20260420T142703
DESCRIPTION:Alpha
LAST-MODIFIED:20260420T142703
LOCATION:Fireside room
SUMMARY:Alpha
URL;VALUE=URI:https://www.kgtchurch.org/events/alpha/2026-09-17
END:VEVENT
END:VCALENDAR
